BEGIN:VCALENDAR
VERSION:2.0
PRODID:SchoolNow
CALSCALE:GREGORIAN
BEGIN:VEVENT
UID:860bb960-129a-11f1-a7d1-0a58a9feac02
DTSTAMP:20260225T223710Z
SUMMARY:Homemade Pepperoni Pizza\, Tossed Salad\, Broccoli\, Pineapple\, Mi
 lk
URL;VALUE=URI:https://www.ronank12.edu/departments/food-service/calendar/88
 71822/homemade-pepperoni-pizza-tossed-salad-broccoli-pineapple-milk
DTSTART:20260331T163000Z
DTEND:20260331T183000Z
END:VEVENT
END:VCALENDAR
