BEGIN:VCALENDAR
VERSION:2.0
PRODID:SchoolNow
CALSCALE:GREGORIAN
BEGIN:VEVENT
UID:eea2827e-af2c-11ea-9fa0-0a001ae2a349
DTSTAMP:20200615T211129Z
SUMMARY:Board Meeting - August 10\, 2020
URL;VALUE=URI:https://www.ronank12.edu/school-board/calendar/2261428/board-
 meeting-august-10-2020
DTSTART:20200811T010000Z
DTEND:20200811T020000Z
END:VEVENT
END:VCALENDAR
