BEGIN:VCALENDAR
VERSION:2.0
PRODID:SchoolNow
CALSCALE:GREGORIAN
BEGIN:VEVENT
UID:f5021f0a-432b-11ec-947f-0ab41bc6bba1
DTSTAMP:20211111T201421Z
SUMMARY:Early Release
URL;VALUE=URI:https://www.ronank12.edu/schools/pablo/calendar/2886135/early
 -release
DTSTART;VALUE=DATE:20211210
DTEND;VALUE=DATE:20211211
END:VEVENT
END:VCALENDAR
