BEGIN:VCALENDAR
VERSION:2.0
PRODID:SchoolNow
CALSCALE:GREGORIAN
BEGIN:VEVENT
UID:65a941ac-432c-11ec-ab95-0ab41bc6bba1
DTSTAMP:20211111T201759Z
SUMMARY:Early Release - Christmas Break
URL;VALUE=URI:https://www.ronank12.edu/schools/pablo/calendar/2886136/early
 -release-christmas-break
DTSTART;VALUE=DATE:20211223
DTEND;VALUE=DATE:20211224
END:VEVENT
END:VCALENDAR
