BEGIN:VCALENDAR
VERSION:2.0
PRODID:SchoolNow
CALSCALE:GREGORIAN
BEGIN:VEVENT
UID:b12a7b64-432c-11ec-845c-0ab41bc6bba1
DTSTAMP:20211111T201937Z
SUMMARY:End 2nd Quarter
URL;VALUE=URI:https://www.ronank12.edu/schools/pablo/calendar/2886138/end-2
 nd-quarter
DTSTART;VALUE=DATE:20220121
DTEND;VALUE=DATE:20220122
END:VEVENT
END:VCALENDAR
