BEGIN:VCALENDAR
VERSION:2.0
PRODID:SchoolNow
CALSCALE:GREGORIAN
BEGIN:VEVENT
UID:ca0e6d84-432c-11ec-a67e-0ab41bc6bba1
DTSTAMP:20211111T202018Z
SUMMARY:No School President's Day
URL;VALUE=URI:https://www.ronank12.edu/schools/pablo/calendar/2886139/no-sc
 hool-presidents-day
DTSTART;VALUE=DATE:20220221
DTEND;VALUE=DATE:20220222
END:VEVENT
END:VCALENDAR
