BEGIN:VCALENDAR
VERSION:2.0
PRODID:SchoolNow
CALSCALE:GREGORIAN
BEGIN:VEVENT
UID:f394c2b6-432c-11ec-938d-0ab41bc6bba1
DTSTAMP:20211111T202128Z
SUMMARY:Early Release
URL;VALUE=URI:https://www.ronank12.edu/schools/pablo/calendar/2886140/early
 -release
DTSTART;VALUE=DATE:20220304
DTEND;VALUE=DATE:20220305
END:VEVENT
END:VCALENDAR
