BEGIN:VCALENDAR
VERSION:2.0
PRODID:SchoolNow
CALSCALE:GREGORIAN
BEGIN:VEVENT
UID:080ba6f6-432d-11ec-96eb-0ab41bc6bba1
DTSTAMP:20211111T202202Z
SUMMARY:End Quarter 3
URL;VALUE=URI:https://www.ronank12.edu/schools/pablo/calendar/2886141/end-q
 uarter-3
DTSTART;VALUE=DATE:20220325
DTEND;VALUE=DATE:20220326
END:VEVENT
END:VCALENDAR
