BEGIN:VCALENDAR
VERSION:2.0
PRODID:SchoolNow
CALSCALE:GREGORIAN
BEGIN:VEVENT
UID:5025df74-432d-11ec-8c3a-0ab41bc6bba1
DTSTAMP:20211111T202403Z
SUMMARY:School Resumes
URL;VALUE=URI:https://www.ronank12.edu/schools/pablo/calendar/2886142/schoo
 l-resumes
DTSTART;VALUE=DATE:20220104
DTEND;VALUE=DATE:20220105
END:VEVENT
END:VCALENDAR
