BEGIN:VCALENDAR
VERSION:2.0
PRODID:SchoolNow
CALSCALE:GREGORIAN
BEGIN:VEVENT
UID:a64e1abc-b121-11ec-bf6a-02bf30ff9387
DTSTAMP:20220331T184207Z
SUMMARY:Spring Break
URL;VALUE=URI:https://www.ronank12.edu/schools/pablo/calendar/3149023/sprin
 g-break
DTSTART;VALUE=DATE:20220418
DTEND;VALUE=DATE:20220423
END:VEVENT
END:VCALENDAR
