BEGIN:VCALENDAR
VERSION:2.0
PRODID:SchoolNow
CALSCALE:GREGORIAN
BEGIN:VEVENT
UID:daa6273c-b121-11ec-8c60-02bf30ff9387
DTSTAMP:20220331T183910Z
SUMMARY:School Resumes
URL;VALUE=URI:https://www.ronank12.edu/schools/pablo/calendar/3149024/schoo
 l-resumes
DTSTART:20220425T060000Z
DTEND:20220426T055900Z
END:VEVENT
END:VCALENDAR
