BEGIN:VCALENDAR
VERSION:2.0
PRODID:SchoolNow
CALSCALE:GREGORIAN
BEGIN:VEVENT
UID:4a418dca-cbe9-11ec-b991-0efd2fd21001
DTSTAMP:20220504T203217Z
SUMMARY:Early Release
URL;VALUE=URI:https://www.ronank12.edu/schools/pablo/calendar/3191478/early
 -release
DTSTART;VALUE=DATE:20220506
DTEND;VALUE=DATE:20220507
END:VEVENT
END:VCALENDAR
