BEGIN:VCALENDAR
VERSION:2.0
PRODID:SchoolNow
CALSCALE:GREGORIAN
BEGIN:VEVENT
UID:9f5dd84e-cbea-11ec-9b6d-0a7f0678edab
DTSTAMP:20220504T204149Z
SUMMARY:No School Memorial Day
URL;VALUE=URI:https://www.ronank12.edu/schools/pablo/calendar/3191482/no-sc
 hool-memorial-day
DTSTART;VALUE=DATE:20220530
DTEND;VALUE=DATE:20220531
END:VEVENT
END:VCALENDAR
