BEGIN:VCALENDAR
VERSION:2.0
PRODID:SchoolNow
CALSCALE:GREGORIAN
BEGIN:VEVENT
UID:bc7407d2-cbea-11ec-b392-0a7f0678edab
DTSTAMP:20220504T204238Z
SUMMARY:Early Release  Last Day of School
URL;VALUE=URI:https://www.ronank12.edu/schools/pablo/calendar/3191491/early
 -release-last-day-of-school
DTSTART:20220603T204100Z
DTEND:20220603T214100Z
END:VEVENT
END:VCALENDAR
