BEGIN:VCALENDAR
VERSION:2.0
PRODID:SchoolNow
CALSCALE:GREGORIAN
BEGIN:VEVENT
UID:f2c02c6c-2491-11ed-879d-0ae83b68a427
DTSTAMP:20220825T162117Z
SUMMARY:First Day of School!!  8:00 Start Time 3:00 Dismissal
URL;VALUE=URI:https://www.ronank12.edu/schools/pablo/calendar/3304411/first
 -day-of-school-8-00-start-time-3-00-dismissal
DTSTART;VALUE=DATE:20220830
DTEND;VALUE=DATE:20220831
END:VEVENT
END:VCALENDAR
