BEGIN:VCALENDAR
VERSION:2.0
PRODID:SchoolNow
CALSCALE:GREGORIAN
BEGIN:VEVENT
UID:324b87d2-2492-11ed-8938-0ae83b68a427
DTSTAMP:20220825T162410Z
SUMMARY:No School Labor Day
URL;VALUE=URI:https://www.ronank12.edu/schools/pablo/calendar/3304412/labor
 -day-no-school
DTSTART;VALUE=DATE:20220905
DTEND;VALUE=DATE:20220906
END:VEVENT
END:VCALENDAR
