BEGIN:VCALENDAR
VERSION:2.0
PRODID:SchoolNow
CALSCALE:GREGORIAN
BEGIN:VEVENT
UID:4630cea6-2492-11ed-ab9a-0ae83b68a427
DTSTAMP:20220825T162337Z
SUMMARY:No School  Tribal PIR
URL;VALUE=URI:https://www.ronank12.edu/schools/pablo/calendar/3304413/no-sc
 hool-tribal-pir
DTSTART;VALUE=DATE:20220919
DTEND;VALUE=DATE:20220920
END:VEVENT
END:VCALENDAR
