BEGIN:VCALENDAR
VERSION:2.0
PRODID:SchoolNow
CALSCALE:GREGORIAN
BEGIN:VEVENT
UID:cdba002c-3dd8-11ed-9b76-021b5d349a29
DTSTAMP:20220926T202129Z
SUMMARY:Picture Day
URL;VALUE=URI:https://www.ronank12.edu/schools/pablo/calendar/3447503/pictu
 re-day
DTSTART;VALUE=DATE:20221006
DTEND;VALUE=DATE:20221007
END:VEVENT
END:VCALENDAR
