BEGIN:VCALENDAR
VERSION:2.0
PRODID:SchoolNow
CALSCALE:GREGORIAN
BEGIN:VEVENT
UID:fecf2462-3dd8-11ed-a8b5-021b5d349a29
DTSTAMP:20220926T202251Z
SUMMARY:Breakfast with Books
URL;VALUE=URI:https://www.ronank12.edu/schools/pablo/calendar/3447504/break
 fast-with-books
DTSTART:20220930T133000Z
DTEND:20220930T140000Z
END:VEVENT
END:VCALENDAR
