BEGIN:VCALENDAR
VERSION:2.0
PRODID:SchoolNow
CALSCALE:GREGORIAN
BEGIN:VEVENT
UID:aad1a2da-3dd9-11ed-ae57-021b5d349a29
DTSTAMP:20220926T202740Z
SUMMARY:Bingo for Books
URL;VALUE=URI:https://www.ronank12.edu/schools/pablo/calendar/3447520/bingo
 -for-books
DTSTART:20221019T000000Z
DTEND:20221019T010000Z
END:VEVENT
END:VCALENDAR
