BEGIN:VCALENDAR
VERSION:2.0
PRODID:SchoolNow
CALSCALE:GREGORIAN
BEGIN:VEVENT
UID:c6963e9a-3dd9-11ed-8b6a-021b5d349a29
DTSTAMP:20220926T202826Z
SUMMARY:Early Release 12:00 Dismissal
URL;VALUE=URI:https://www.ronank12.edu/schools/pablo/calendar/3447521/early
 -release-12-00-dismissal
DTSTART;VALUE=DATE:20221019
DTEND;VALUE=DATE:20221020
END:VEVENT
END:VCALENDAR
