BEGIN:VCALENDAR
VERSION:2.0
PRODID:SchoolNow
CALSCALE:GREGORIAN
BEGIN:VEVENT
UID:d90f3f22-3dd9-11ed-b26a-021b5d349a29
DTSTAMP:20220926T202857Z
SUMMARY:No School - State Educator Conference
URL;VALUE=URI:https://www.ronank12.edu/schools/pablo/calendar/3447522/no-sc
 hool-state-educator-conference
DTSTART;VALUE=DATE:20221020
DTEND;VALUE=DATE:20221021
END:VEVENT
END:VCALENDAR
