BEGIN:VCALENDAR
VERSION:2.0
PRODID:SchoolNow
CALSCALE:GREGORIAN
BEGIN:VEVENT
UID:eb5dcf54-3dd9-11ed-8ecf-021b5d349a29
DTSTAMP:20220926T202928Z
SUMMARY:No School - State Educator Conference
URL;VALUE=URI:https://www.ronank12.edu/schools/pablo/calendar/3447523/no-sc
 hool-state-educator-conference
DTSTART;VALUE=DATE:20221021
DTEND;VALUE=DATE:20221022
END:VEVENT
END:VCALENDAR
