BEGIN:VCALENDAR
VERSION:2.0
PRODID:SchoolNow
CALSCALE:GREGORIAN
BEGIN:VEVENT
UID:0203f256-3dda-11ed-a857-021b5d349a29
DTSTAMP:20220926T203006Z
SUMMARY:End of 1st Quarter
URL;VALUE=URI:https://www.ronank12.edu/schools/pablo/calendar/3447529/end-o
 f-1st-quarter
DTSTART;VALUE=DATE:20221104
DTEND;VALUE=DATE:20221105
END:VEVENT
END:VCALENDAR
