BEGIN:VCALENDAR
VERSION:2.0
PRODID:SchoolNow
CALSCALE:GREGORIAN
BEGIN:VEVENT
UID:18f497ea-3dda-11ed-b526-021b5d349a29
DTSTAMP:20220926T203044Z
SUMMARY:Parent Teacher Conferences
URL;VALUE=URI:https://www.ronank12.edu/schools/pablo/calendar/3447530/paren
 t-teacher-conferences
DTSTART;VALUE=DATE:20221111
DTEND;VALUE=DATE:20221112
END:VEVENT
END:VCALENDAR
