BEGIN:VCALENDAR
VERSION:2.0
PRODID:SchoolNow
CALSCALE:GREGORIAN
BEGIN:VEVENT
UID:369c2902-3dda-11ed-b7f3-021b5d349a29
DTSTAMP:20220926T203134Z
SUMMARY:Early Release  12:00 Dismissal
URL;VALUE=URI:https://www.ronank12.edu/schools/pablo/calendar/3447531/early
 -release-12-00-dismissal
DTSTART;VALUE=DATE:20221123
DTEND;VALUE=DATE:20221124
END:VEVENT
END:VCALENDAR
