BEGIN:VCALENDAR
VERSION:2.0
PRODID:SchoolNow
CALSCALE:GREGORIAN
BEGIN:VEVENT
UID:4a113414-3dda-11ed-bf5d-021b5d349a29
DTSTAMP:20220926T203207Z
SUMMARY:No School Thanksgiving Break
URL;VALUE=URI:https://www.ronank12.edu/schools/pablo/calendar/3447537/no-sc
 hool-thanksgiving-break
DTSTART;VALUE=DATE:20221124
DTEND;VALUE=DATE:20221125
END:VEVENT
END:VCALENDAR
