BEGIN:VCALENDAR
VERSION:2.0
PRODID:SchoolNow
CALSCALE:GREGORIAN
BEGIN:VEVENT
UID:58558976-3dda-11ed-82b5-021b5d349a29
DTSTAMP:20220926T203231Z
SUMMARY:No School Thanksgiving
URL;VALUE=URI:https://www.ronank12.edu/schools/pablo/calendar/3447538/no-sc
 hool-thanksgiving
DTSTART;VALUE=DATE:20221125
DTEND;VALUE=DATE:20221126
END:VEVENT
END:VCALENDAR
