BEGIN:VCALENDAR
VERSION:2.0
PRODID:SchoolNow
CALSCALE:GREGORIAN
BEGIN:VEVENT
UID:8e5e4a62-3dda-11ed-98fe-021b5d349a29
DTSTAMP:20220926T203401Z
SUMMARY:Early Release 12:00 Dismissal
URL;VALUE=URI:https://www.ronank12.edu/schools/pablo/calendar/3447542/early
 -release-12-00-dismissal
DTSTART;VALUE=DATE:20221222
DTEND;VALUE=DATE:20221223
END:VEVENT
END:VCALENDAR
