BEGIN:VCALENDAR
VERSION:2.0
PRODID:SchoolNow
CALSCALE:GREGORIAN
BEGIN:VEVENT
UID:ca1a0dfc-3dda-11ed-8eb7-021b5d349a29
DTSTAMP:20220926T204003Z
SUMMARY:No School Christmas Break
URL;VALUE=URI:https://www.ronank12.edu/schools/pablo/calendar/3447543/no-sc
 hool-christmas-break
DTSTART;VALUE=DATE:20221224
DTEND;VALUE=DATE:20230103
END:VEVENT
END:VCALENDAR
