BEGIN:VCALENDAR
VERSION:2.0
PRODID:SchoolNow
CALSCALE:GREGORIAN
BEGIN:VEVENT
UID:88abb0a4-3ddb-11ed-b2cc-021b5d349a29
DTSTAMP:20220926T204101Z
SUMMARY:School Resumes
URL;VALUE=URI:https://www.ronank12.edu/schools/pablo/calendar/3447544/schoo
 l-resumes
DTSTART;VALUE=DATE:20230103
DTEND;VALUE=DATE:20230104
END:VEVENT
END:VCALENDAR
