BEGIN:VCALENDAR
VERSION:2.0
PRODID:SchoolNow
CALSCALE:GREGORIAN
BEGIN:VEVENT
UID:0cea6778-4400-11ed-b8e2-0aef63c64c6d
DTSTAMP:20221004T161732Z
SUMMARY:Parent Teacher Conferences 3:30-7:00 p.m.
URL;VALUE=URI:https://www.ronank12.edu/schools/pablo/calendar/3481043/paren
 t-teacher-conferences-3-30-7-00-p-m
DTSTART;VALUE=DATE:20221110
DTEND;VALUE=DATE:20221111
END:VEVENT
END:VCALENDAR
