BEGIN:VCALENDAR
VERSION:2.0
PRODID:SchoolNow
CALSCALE:GREGORIAN
BEGIN:VEVENT
UID:e15c1178-9365-11ed-8875-0e01769b408f
DTSTAMP:20230113T171530Z
SUMMARY:Breakfast with Books
URL;VALUE=URI:https://www.ronank12.edu/schools/pablo/calendar/3667232/break
 fast-with-books
DTSTART;VALUE=DATE:20230208
DTEND;VALUE=DATE:20230209
END:VEVENT
END:VCALENDAR
