BEGIN:VCALENDAR
VERSION:2.0
PRODID:SchoolNow
CALSCALE:GREGORIAN
BEGIN:VEVENT
UID:f37b93ec-9365-11ed-9cc3-0e01769b408f
DTSTAMP:20230113T171600Z
SUMMARY:Class Photos
URL;VALUE=URI:https://www.ronank12.edu/schools/pablo/calendar/3667233/class
 -photos
DTSTART;VALUE=DATE:20230309
DTEND;VALUE=DATE:20230310
END:VEVENT
END:VCALENDAR
