BEGIN:VCALENDAR
VERSION:2.0
PRODID:SchoolNow
CALSCALE:GREGORIAN
BEGIN:VEVENT
UID:3a70a846-9366-11ed-92cd-0e01769b408f
DTSTAMP:20230113T171759Z
SUMMARY:End of 3rd Quarter
URL;VALUE=URI:https://www.ronank12.edu/schools/pablo/calendar/3667234/end-o
 f-3rd-quarter
DTSTART;VALUE=DATE:20230331
DTEND;VALUE=DATE:20230401
END:VEVENT
END:VCALENDAR
