BEGIN:VCALENDAR
VERSION:2.0
PRODID:SchoolNow
CALSCALE:GREGORIAN
BEGIN:VEVENT
UID:4e1b1dc2-9366-11ed-836e-0e01769b408f
DTSTAMP:20230113T171832Z
SUMMARY:Spring Break
URL;VALUE=URI:https://www.ronank12.edu/schools/pablo/calendar/3667235/sprin
 g-break
DTSTART;VALUE=DATE:20230407
DTEND;VALUE=DATE:20230411
END:VEVENT
END:VCALENDAR
