BEGIN:VCALENDAR
VERSION:2.0
PRODID:SchoolNow
CALSCALE:GREGORIAN
BEGIN:VEVENT
UID:86482de8-9366-11ed-b7ce-0e01769b408f
DTSTAMP:20230113T172006Z
SUMMARY:End of 2nd Quarter
URL;VALUE=URI:https://www.ronank12.edu/schools/pablo/calendar/3667236/end-o
 f-2nd-quarter
DTSTART;VALUE=DATE:20230120
DTEND;VALUE=DATE:20230121
END:VEVENT
END:VCALENDAR
