BEGIN:VCALENDAR
VERSION:2.0
PRODID:SchoolNow
CALSCALE:GREGORIAN
BEGIN:VEVENT
UID:f3540056-98d4-11ed-be33-0e4090619047
DTSTAMP:20230302T165318Z
SUMMARY:Bingo for Books 6-7p.m.
URL;VALUE=URI:https://www.ronank12.edu/schools/pablo/calendar/3677353/bingo
 -for-books
DTSTART;VALUE=DATE:20230309
DTEND;VALUE=DATE:20230310
END:VEVENT
END:VCALENDAR
