BEGIN:VCALENDAR
VERSION:2.0
PRODID:SchoolNow
CALSCALE:GREGORIAN
BEGIN:VEVENT
UID:32bc90a4-b910-11ed-af08-0a371d945b67
DTSTAMP:20230302T153754Z
SUMMARY:Early Release 12:00
URL;VALUE=URI:https://www.ronank12.edu/schools/pablo/calendar/3805405/early
 -release-12-00
DTSTART;VALUE=DATE:20230310
DTEND;VALUE=DATE:20230311
END:VEVENT
END:VCALENDAR
