BEGIN:VCALENDAR
VERSION:2.0
PRODID:SchoolNow
CALSCALE:GREGORIAN
BEGIN:VEVENT
UID:6339b1ec-e36a-11ed-bebd-0e5dfb03a30f
DTSTAMP:20230425T130918Z
SUMMARY:Early Release 12:00 dismissal
URL;VALUE=URI:https://www.ronank12.edu/schools/pablo/calendar/4123535/early
 -release-12-00-dismissal
DTSTART;VALUE=DATE:20230428
DTEND;VALUE=DATE:20230429
END:VEVENT
END:VCALENDAR
