BEGIN:VCALENDAR
VERSION:2.0
PRODID:SchoolNow
CALSCALE:GREGORIAN
BEGIN:VEVENT
UID:96eeee94-e36a-11ed-8dfe-0e5dfb03a30f
DTSTAMP:20230425T131045Z
SUMMARY:No School
URL;VALUE=URI:https://www.ronank12.edu/schools/pablo/calendar/4123538/no-sc
 hool
DTSTART;VALUE=DATE:20230512
DTEND;VALUE=DATE:20230513
END:VEVENT
END:VCALENDAR
