BEGIN:VCALENDAR
VERSION:2.0
PRODID:SchoolNow
CALSCALE:GREGORIAN
BEGIN:VEVENT
UID:becd9d20-e36a-11ed-964d-0e5dfb03a30f
DTSTAMP:20230425T131152Z
SUMMARY:Memorial Day No School
URL;VALUE=URI:https://www.ronank12.edu/schools/pablo/calendar/4123539/memor
 ial-day-no-school
DTSTART;VALUE=DATE:20230529
DTEND;VALUE=DATE:20230530
END:VEVENT
END:VCALENDAR
