BEGIN:VCALENDAR
VERSION:2.0
PRODID:SchoolNow
CALSCALE:GREGORIAN
BEGIN:VEVENT
UID:d6d0e3f0-e36a-11ed-a365-0e5dfb03a30f
DTSTAMP:20230425T131232Z
SUMMARY:Last Day of School Early Release 12:00
URL;VALUE=URI:https://www.ronank12.edu/schools/pablo/calendar/4123540/last-
 day-of-school-early-release-12-00
DTSTART;VALUE=DATE:20230607
DTEND;VALUE=DATE:20230608
END:VEVENT
END:VCALENDAR
