BEGIN:VCALENDAR
VERSION:2.0
PRODID:SchoolNow
CALSCALE:GREGORIAN
BEGIN:VEVENT
UID:40be0d06-e398-11ed-8f89-02b415375aad
DTSTAMP:20230425T183737Z
SUMMARY:Fun Run Beginning in the Afternoon
URL;VALUE=URI:https://www.ronank12.edu/schools/pablo/calendar/4125312/fun-r
 un-beginning-in-the-afternoon
DTSTART;VALUE=DATE:20230606
DTEND;VALUE=DATE:20230607
END:VEVENT
END:VCALENDAR
