BEGIN:VCALENDAR
VERSION:2.0
PRODID:SchoolNow
CALSCALE:GREGORIAN
BEGIN:VEVENT
UID:3a411a0e-410d-11ee-a9cb-0a58a9feac02
DTSTAMP:20230822T165916Z
SUMMARY:Back to School Night 4:00 - 6:00 pm
URL;VALUE=URI:https://www.ronank12.edu/schools/pablo/calendar/4610000/back-
 to-school-night-4-00-6-00-pm
DTSTART;VALUE=DATE:20230828
DTEND;VALUE=DATE:20230829
END:VEVENT
END:VCALENDAR
