BEGIN:VCALENDAR
VERSION:2.0
PRODID:SchoolNow
CALSCALE:GREGORIAN
BEGIN:VEVENT
UID:672bf700-410d-11ee-bf5e-0a58a9feac02
DTSTAMP:20230822T170031Z
SUMMARY:First Day of School 8:00am - 3:00pm
URL;VALUE=URI:https://www.ronank12.edu/schools/pablo/calendar/4610003/first
 -day-of-school-8-00am-3-00pm
DTSTART;VALUE=DATE:20230829
DTEND;VALUE=DATE:20230830
END:VEVENT
END:VCALENDAR
