BEGIN:VCALENDAR
VERSION:2.0
PRODID:SchoolNow
CALSCALE:GREGORIAN
BEGIN:VEVENT
UID:91ddeec2-410d-11ee-affc-0229a6131bcf
DTSTAMP:20230822T170143Z
SUMMARY:No School Labor Day
URL;VALUE=URI:https://www.ronank12.edu/schools/pablo/calendar/4610006/no-sc
 hool-labor-day
DTSTART;VALUE=DATE:20230904
DTEND;VALUE=DATE:20230905
END:VEVENT
END:VCALENDAR
