BEGIN:VCALENDAR
VERSION:2.0
PRODID:SchoolNow
CALSCALE:GREGORIAN
BEGIN:VEVENT
UID:b0472cfc-410d-11ee-9c8f-0a58a9feac02
DTSTAMP:20230822T170234Z
SUMMARY:No School IEFA PIR
URL;VALUE=URI:https://www.ronank12.edu/schools/pablo/calendar/4610008/no-sc
 hool-iefa-pir
DTSTART;VALUE=DATE:20230918
DTEND;VALUE=DATE:20230919
END:VEVENT
END:VCALENDAR
