BEGIN:VCALENDAR
VERSION:2.0
PRODID:SchoolNow
CALSCALE:GREGORIAN
BEGIN:VEVENT
UID:f662ba44-410d-11ee-94a0-0293a1171361
DTSTAMP:20230822T171054Z
SUMMARY:NO SCHOOL FOR KINDERGARTEN ONLY. This only applies to 5 year olds\,
  not Mrs. Carlin's 4 year old class.
URL;VALUE=URI:https://www.ronank12.edu/schools/pablo/calendar/4610013/no-sc
 hool-for-kindergarten-only
DTSTART;VALUE=DATE:20230901
DTEND;VALUE=DATE:20230902
END:VEVENT
END:VCALENDAR
