BEGIN:VCALENDAR
VERSION:2.0
PRODID:SchoolNow
CALSCALE:GREGORIAN
BEGIN:VEVENT
UID:1e108eb8-4113-11ee-947c-0a58a9feac02
DTSTAMP:20230822T174125Z
SUMMARY:After School Club Begins
URL;VALUE=URI:https://www.ronank12.edu/schools/pablo/calendar/4610027/after
 -school-club-begins
DTSTART;VALUE=DATE:20230925
DTEND;VALUE=DATE:20230926
END:VEVENT
END:VCALENDAR
